BEGIN:VCALENDAR
VERSION:2.0
PRODID:-//Bangor S.A. - ECPv6.6.4.2//NONSGML v1.0//EN
CALSCALE:GREGORIAN
METHOD:PUBLISH
X-WR-CALNAME:Bangor S.A.
X-ORIGINAL-URL:https://bangor.com.py
X-WR-CALDESC:Eventos para Bangor S.A.
REFRESH-INTERVAL;VALUE=DURATION:PT1H
X-Robots-Tag:noindex
X-PUBLISHED-TTL:PT1H
BEGIN:VTIMEZONE
TZID:UTC
BEGIN:STANDARD
TZOFFSETFROM:+0000
TZOFFSETTO:+0000
TZNAME:UTC
DTSTART:20260101T000000
END:STANDARD
END:VTIMEZONE
BEGIN:VEVENT
DTSTART;TZID=UTC:20260421T162100
DTEND;TZID=UTC:20260423T193000
DTSTAMP:20260422T100554
CREATED:20260421T130423Z
LAST-MODIFIED:20260421T130423Z
UID:3166-1776788460-1776972600@bangor.com.py
SUMMARY:FERIA DE INVERNADA POR PANTALLA 04/08/2025
DESCRIPTION:ATENTOS QUERIDOS VENDEDORES Y COMPRADORES DE HACIENDA\, ESTAN TODOS CORDIALMENTE INVITADOS A NUESTRA PROXIMA FERIA DE INVERNADA POR PANTALLA\, A REALIZARSE EL MIERCOLES 22 DE ABRIL \nAGENDE CON TIEMPO SU LOTE PARA UNA CORRECTA CERTIFICACION Y PREVENTA \nHABILITE SU CARPETA PARA ACCEDER A BENEFICIOS !! \n \n 
URL:https://bangor.com.py/ferias/feria-de-invernada-por-pantalla-04-08-2025-2/
LOCATION:Casa FERIA\, Dirección\, Asuncion\, Paraguay
CATEGORIES:Feria especial
ATTACH;FMTTYPE=image/jpeg:https://bangor.com.py/wp-content/uploads/2026/04/WhatsApp-Image-2026-04-17-at-09.32.39.jpeg
ORGANIZER;CN="Bangor S. A.":MAILTO:info@bangor.com.py
END:VEVENT
END:VCALENDAR